BEGIN:VCALENDAR
VERSION:2.0
METHOD:PUBLISH
X-WR-CALNAME:TimeEdit-B11\, 35\, Gotland-20260401
X-WR-CALDESC:Date limit 2026-04-06 - 2031-04-20
X-PUBLISHED-TTL:PT20M
CALSCALE:GREGORIAN
PRODID:-//TimeEdit\\\, //TimeEdit//EN
BEGIN:VEVENT
DTSTART:20260420T081500Z
DTEND:20260420T100000Z
UID:3791356-1094642922-0@timeedit.com
DTSTAMP:20260421T130124Z
LAST-MODIFIED:20260421T130124Z
URL:http://use.mazemap.com/?v=1&campusid=100&cam
 puses=uu&sharepoitype=identifier&sharepoi=AB-
 158
SUMMARY:GRL2\, Engelska för grundlärare\, å
 rskurs F-3.  \, Marika Randler\, Seminar
 ium
LOCATION:Plats: B11
DESCRIPTION:Språkstruktur \nKarta: http://use.
 mazemap.com/?v=1&campusid=100&campuses=uu&s
 harepoitype=identifier&sharepoi=AB-158\nID 
 3791356
END:VEVENT
BEGIN:VEVENT
DTSTART:20260420T111500Z
DTEND:20260420T130000Z
UID:3592980-1094642922-0@timeedit.com
DTSTAMP:20260421T130124Z
LAST-MODIFIED:20260421T130124Z
URL:http://use.mazemap.com/?v=1&campusid=100&cam
 puses=uu&sharepoitype=identifier&sharepoi=AB-
 158
SUMMARY:SSKt2\, Termin 2\,\, SSK\, Hälsa och förebyggande av ohä
 lsa II. Basgrupp G\, Nathalie Godman\, Seminarium\, Obligator
 isk
LOCATION:Plats: B11
DESCRIPTION:Omvårdnad vid lungsjukdomar \nKarta: ht
 tp://use.mazemap.com/?v=1&campusid=100&campuses=
 uu&sharepoitype=identifier&sharepoi=AB-158\nID 3
 592980
END:VEVENT
BEGIN:VEVENT
DTSTART:20260420T131500Z
DTEND:20260420T150000Z
UID:3592975-1094642922-0@timeedit.com
DTSTAMP:20260421T130124Z
LAST-MODIFIED:20260421T130124Z
URL:http://use.mazemap.com/?v=1&campusid=100&cam
 puses=uu&sharepoitype=identifier&sharepoi=AB-
 158
SUMMARY:SSKt2\, Termin 2\,\, SSK\, Hälsa och förebyggande av ohä
 lsa II. Basgrupp N\, Nathalie Godman\, Seminarium\, Obligator
 isk
LOCATION:Plats: B11
DESCRIPTION:Omvårdnad vid lungsjukdomar \nKarta: ht
 tp://use.mazemap.com/?v=1&campusid=100&campuses=
 uu&sharepoitype=identifier&sharepoi=AB-158\nID 3
 592975
END:VEVENT
BEGIN:VEVENT
DTSTART:20260421T071500Z
DTEND:20260421T100000Z
UID:3791677-1094642922-0@timeedit.com
DTSTAMP:20260421T130124Z
LAST-MODIFIED:20260421T130124Z
URL:http://use.mazemap.com/?v=1&campusid=100&cam
 puses=uu&sharepoitype=identifier&sharepoi=AB-
 158
SUMMARY:Självständigt arbete med inriktning mot samh
 ällsplanering.  \, Ioanna Misheva Blasko\, Semina
 rium
LOCATION:Plats: B11
DESCRIPTION:Karta: http://use.mazemap.com/?v=1&campusid=100&c
 ampuses=uu&sharepoitype=identifier&sharepoi=AB-158\nID 379
 1677
END:VEVENT
BEGIN:VEVENT
DTSTART:20260421T113000Z
DTEND:20260421T140000Z
UID:4016152-1094642922-0@timeedit.com
DTSTAMP:20260421T130124Z
LAST-MODIFIED:20260421T130124Z
URL:http://use.mazemap.com/?v=1&campusid=100&cam
 puses=uu&sharepoitype=identifier&sharepoi=AB-
 158
SUMMARY:Grupparbete
LOCATION:Plats: B11
DESCRIPTION:Karta: http://use.mazemap.com/?v=1&campusid=100&c
 ampuses=uu&sharepoitype=identifier&sharepoi=AB-158\nID 401
 6152
END:VEVENT
BEGIN:VEVENT
DTSTART:20260422T061500Z
DTEND:20260422T080000Z
UID:3592966-1094642922-0@timeedit.com
DTSTAMP:20260421T130124Z
LAST-MODIFIED:20260421T130124Z
URL:http://use.mazemap.com/?v=1&campusid=100&cam
 puses=uu&sharepoitype=identifier&sharepoi=AB-
 158
SUMMARY:SSKt2\, Termin 2\,\, SSK\, Hälsa och förebyggande av ohä
 lsa II. Basgrupp G\, Nathalie Godman\, Seminarium\, Obligator
 isk
LOCATION:Plats: B11
DESCRIPTION:Omvårdnad vid cancersjukdomar \n \n \nKar
 ta: http://use.mazemap.com/?v=1&campusid=100&campu
 ses=uu&sharepoitype=identifier&sharepoi=AB-158\nID
  3592966
END:VEVENT
BEGIN:VEVENT
DTSTART:20260422T081500Z
DTEND:20260422T100000Z
UID:3568390-1094642922-0@timeedit.com
DTSTAMP:20260421T130124Z
LAST-MODIFIED:20260421T130124Z
URL:http://use.mazemap.com/?v=1&campusid=100&cam
 puses=uu&sharepoitype=identifier&sharepoi=AB-
 158
SUMMARY:SSKt6\, Termin 6\,\, SSK\, Komplexa vårdsituatione
 r. Basgrupp N\, Nathalie Godman\, Seminarium\, Obligato
 risk
LOCATION:Plats: B11
DESCRIPTION:Nutrition \nKarta: http://use.mazemap.com/?v=1&campusid
 =100&campuses=uu&sharepoitype=identifier&sharepoi=AB-158\nID 356
 8390
END:VEVENT
BEGIN:VEVENT
DTSTART:20260422T111500Z
DTEND:20260422T130000Z
UID:3568383-1094642922-0@timeedit.com
DTSTAMP:20260421T130124Z
LAST-MODIFIED:20260421T130124Z
URL:http://use.mazemap.com/?v=1&campusid=100&cam
 puses=uu&sharepoitype=identifier&sharepoi=AB-
 158
SUMMARY:SSKt6\, Termin 6\,\, SSK\, Komplexa vårdsituatione
 r. Basgrupp G\, Nathalie Godman\, Seminarium\, Obligato
 risk
LOCATION:Plats: B11
DESCRIPTION:Nutrition \nKarta: http://use.mazemap.com/?v=1&campusid
 =100&campuses=uu&sharepoitype=identifier&sharepoi=AB-158\nID 356
 8383
END:VEVENT
BEGIN:VEVENT
DTSTART:20260423T061500Z
DTEND:20260423T150000Z
UID:3911788-1094642922-0@timeedit.com
DTSTAMP:20260421T130124Z
LAST-MODIFIED:20260421T130124Z
URL:http://use.mazemap.com/?v=1&campusid=100&cam
 puses=uu&sharepoitype=identifier&sharepoi=AB-
 158
SUMMARY:Kandidatkurs i företagsekonomi - fördjupning 
 med tillhörande metod.  \, Adri de Ridder\, Semina
 rium
LOCATION:Plats: B11
DESCRIPTION:Seminarium 3: Mellanläge \nKarta: http
 ://use.mazemap.com/?v=1&campusid=100&campuses=u
 u&sharepoitype=identifier&sharepoi=AB-158\nID 3
 911788
END:VEVENT
BEGIN:VEVENT
DTSTART:20260424T061500Z
DTEND:20260424T100000Z
UID:3724995-1094642922-0@timeedit.com
DTSTAMP:20260421T130124Z
LAST-MODIFIED:20260421T130124Z
URL:http://use.mazemap.com/?v=1&campusid=100&cam
 puses=uu&sharepoitype=identifier&sharepoi=AB-
 158
SUMMARY:SSKt1\, Människokroppens struktur och funktion
 . Gr. A\, Louise Edwinsson\, Grupparbete\, Obligato
 risk
LOCATION:Plats: B11
DESCRIPTION:Inlärningsträff 4 \nKarta: http://u
 se.mazemap.com/?v=1&campusid=100&campuses=uu
 &sharepoitype=identifier&sharepoi=AB-158\nID
  3724995
END:VEVENT
BEGIN:VEVENT
DTSTART:20260424T111500Z
DTEND:20260424T140000Z
UID:3919953-1094642922-0@timeedit.com
DTSTAMP:20260421T130124Z
LAST-MODIFIED:20260421T130124Z
URL:https://uppsala.instructure.com/courses/115908/assignments/379390
SUMMARY:Spelproduktion 1 - arkadspel
 .  \, Daniel Ditlevsen\, Föreläsn
 ing
LOCATION:Plats: B11 \nPlats: B14-15 \
 nPlats: B22 \nPlats: B25 \nPlats: 
 B43
DESCRIPTION:Sprint 1: Review + First Playable \nSee the course pa
 ge for the detailed schedule: https://uppsala.instructure.com/
 courses/115908/assignments/379390 \nKarta: http://use.mazemap.
 com/?v=1&campusid=100&campuses=uu&sharepoitype=identifier&shar
 epoi=AB-158 \nKarta: http://use.mazemap.com/?v=1&campusid=100&
 campuses=uu&sharepoitype=identifier&sharepoi=AB-168 \nKarta: h
 ttp://use.mazemap.com/?v=1&campusid=100&campuses=uu&sharepoity
 pe=identifier&sharepoi=AB-169 \nKarta: http://use.mazemap.com/
 ?v=1&campusid=100&campuses=uu&sharepoitype=identifier&sharepoi
 =AB-244 \nKarta: http://use.mazemap.com/?v=1&campusid=100&camp
 uses=uu&sharepoitype=identifier&sharepoi=AB-260 \nKarta: http:
 //use.mazemap.com/?v=1&campusid=100&campuses=uu&sharepoitype=i
 dentifier&sharepoi=AB-402\nID 3919953
END:VEVENT
BEGIN:VEVENT
DTSTART:20260427T081500Z
DTEND:20260427T100000Z
UID:3818329-1094642922-0@timeedit.com
DTSTAMP:20260421T130124Z
LAST-MODIFIED:20260421T130124Z
URL:http://use.mazemap.com/?v=1&campusid=100&cam
 puses=uu&sharepoitype=identifier&sharepoi=AB-
 158
SUMMARY:Osteologi B.  \, Patrick Randolph-Quinney\, Föreläsning
LOCATION:Plats: B11
DESCRIPTION:Osteology B: Zooarchaeology and Palaeoeconomy
  \nKarta: http://use.mazemap.com/?v=1&campusid=100&cam
 puses=uu&sharepoitype=identifier&sharepoi=AB-158\nID 3
 818329
END:VEVENT
BEGIN:VEVENT
DTSTART:20260428T061500Z
DTEND:20260428T080000Z
UID:4017339-1094642922-0@timeedit.com
DTSTAMP:20260421T130124Z
LAST-MODIFIED:20260421T130124Z
URL:http://use.mazemap.com/?v=1&campusid=100&cam
 puses=uu&sharepoitype=identifier&sharepoi=AB-
 158
SUMMARY:SSKt2\, Termin 2\,\, SSK\, Hälsa och förebyggande av ohäl
 sa II. Basgrupp G\, Termin 2\,\, SSK\, Hälsa och förebyggande 
 av ohälsa II. Basgrupp N\, Nathalie Godman\, Seminarium\, Obli
 gatorisk
LOCATION:Plats: B11
DESCRIPTION:Omvårdnad vid lungsjukdomar \nKarta: ht
 tp://use.mazemap.com/?v=1&campusid=100&campuses=
 uu&sharepoitype=identifier&sharepoi=AB-158\nID 4
 017339
END:VEVENT
BEGIN:VEVENT
DTSTART:20260428T111500Z
DTEND:20260428T130000Z
UID:3592933-1094642922-0@timeedit.com
DTSTAMP:20260421T130124Z
LAST-MODIFIED:20260421T130124Z
URL:http://use.mazemap.com/?v=1&campusid=100&cam
 puses=uu&sharepoitype=identifier&sharepoi=AB-
 158
SUMMARY:SSKt2\, Termin 2\,\, SSK\, Hälsa och förebyggande av ohäl
 sa II. Basgrupp G\, Termin 2\,\, SSK\, Hälsa och förebyggande 
 av ohälsa II. Basgrupp N\, Nathalie Godman\, Seminarium\, Obli
 gatorisk
LOCATION:Plats: B11
DESCRIPTION:Omvårdnad vid cancersjukdomar: Uppföljning \n 
 \n \nKarta: http://use.mazemap.com/?v=1&campusid=100&ca
 mpuses=uu&sharepoitype=identifier&sharepoi=AB-158\nID 3
 592933
END:VEVENT
BEGIN:VEVENT
DTSTART:20260429T070000Z
DTEND:20260429T140000Z
UID:4008585-1094642922-0@timeedit.com
DTSTAMP:20260421T130124Z
LAST-MODIFIED:20260421T130124Z
URL:http://use.mazemap.com/?v=1&campusid=100&cam
 puses=uu&sharepoitype=identifier&sharepoi=AB-
 158
SUMMARY:Spelproduktion 1 - arkadspel.  \, Daniel Ditlevsen\, Övrigt
LOCATION:Plats: B11 \nPlats: B13
DESCRIPTION:Project Work: \nUse this room to work on your proj
 ect with your team! You can even bring some tools and mater
 ials from the basement to work on your device. MAKE SURE TO
  CLEAN UP EVERYTHING WHEN YOU ARE DONE! \nKarta: http://use
 .mazemap.com/?v=1&campusid=100&campuses=uu&sharepoitype=ide
 ntifier&sharepoi=AB-158 \nKarta: http://use.mazemap.com/?v=
 1&campusid=100&campuses=uu&sharepoitype=identifier&sharepoi
 =AB-159\nID 4008585
END:VEVENT
BEGIN:VEVENT
DTSTART:20260504T071500Z
DTEND:20260504T100000Z
UID:3919960-1094642922-0@timeedit.com
DTSTAMP:20260421T130124Z
LAST-MODIFIED:20260421T130124Z
URL:https://uppsala.instructure.com/courses/11
 5908/assignments/379392?module_item_id=1608
 233
SUMMARY:Spelproduktion 1 - arkadspel
 .  \, Daniel Ditlevsen\, Föreläsn
 ing
LOCATION:Plats: B11 \nPlats: B14-15 \nPlats: D22
DESCRIPTION:Sprint 2: Check-in \nSee schedule here: https://up
 psala.instructure.com/courses/115908/assignments/379392?mod
 ule_item_id=1608233 \nKarta: http://use.mazemap.com/?v=1&ca
 mpusid=100&campuses=uu&sharepoitype=identifier&sharepoi=AB-
 158 \nKarta: http://use.mazemap.com/?v=1&campusid=100&campu
 ses=uu&sharepoitype=identifier&sharepoi=AB-168 \nKarta: htt
 p://use.mazemap.com/?v=1&campusid=100&campuses=uu&sharepoit
 ype=identifier&sharepoi=AB-169 \nKarta: http://use.mazemap.
 com/?v=1&campusid=100&campuses=uu&sharepoitype=identifier&s
 harepoi=CD-276\nID 3919960
END:VEVENT
BEGIN:VEVENT
DTSTART:20260504T100000Z
DTEND:20260504T130000Z
UID:3568444-1094642922-0@timeedit.com
DTSTAMP:20260421T130124Z
LAST-MODIFIED:20260421T130124Z
URL:http://use.mazemap.com/?v=1&campusid=100&cam
 puses=uu&sharepoitype=identifier&sharepoi=AB-
 158
SUMMARY:SSKt6\, Termin 6\,\, SSK\, Komplexa vårdsitu
 ationer. Basgrupp G\, Termin 6\,\, SSK\, Komplexa
  vårdsituationer. Basgrupp N\, Seminarium\, Oblig
 atorisk
LOCATION:Plats: B11
DESCRIPTION:Palliativ omvårdnad - grupparbete med inlämni
 ng \nKarta: http://use.mazemap.com/?v=1&campusid=100&c
 ampuses=uu&sharepoitype=identifier&sharepoi=AB-158\nID
  3568444
END:VEVENT
BEGIN:VEVENT
DTSTART:20260505T071500Z
DTEND:20260505T100000Z
UID:3925411-1094642922-0@timeedit.com
DTSTAMP:20260421T130124Z
LAST-MODIFIED:20260421T130124Z
URL:http://use.mazemap.com/?v=1&campusid=100&cam
 puses=uu&sharepoitype=identifier&sharepoi=AB-
 158
SUMMARY:Föremål och design.  \, Susanna Carlsten\, Föreläsning
LOCATION:Plats: B11
DESCRIPTION:Karta: http://use.mazemap.com/?v=1&campusid=100&c
 ampuses=uu&sharepoitype=identifier&sharepoi=AB-158\nID 392
 5411
END:VEVENT
BEGIN:VEVENT
DTSTART:20260505T111500Z
DTEND:20260505T140000Z
UID:3757425-1094642922-0@timeedit.com
DTSTAMP:20260421T130124Z
LAST-MODIFIED:20260421T130124Z
URL:http://use.mazemap.com/?v=1&campusid=100&cam
 puses=uu&sharepoitype=identifier&sharepoi=AB-
 158
SUMMARY:Examensarbete i speldesign.
   \, Wilhelmina Statham\, Semina
 rium
LOCATION:Plats: B11 \nPlats: B13-14 \nPlats: B22
DESCRIPTION:Seminar Week \nKarta: http://use.mazemap.com/?v=1&c
 ampusid=100&campuses=uu&sharepoitype=identifier&sharepoi=AB-
 158 \nKarta: http://use.mazemap.com/?v=1&campusid=100&campus
 es=uu&sharepoitype=identifier&sharepoi=AB-159 \nKarta: http:
 //use.mazemap.com/?v=1&campusid=100&campuses=uu&sharepoitype
 =identifier&sharepoi=AB-168 \nKarta: http://use.mazemap.com/
 ?v=1&campusid=100&campuses=uu&sharepoitype=identifier&sharep
 oi=AB-244\nID 3757425
END:VEVENT
BEGIN:VEVENT
DTSTART:20260508T061500Z
DTEND:20260508T100000Z
UID:3725006-1094642922-0@timeedit.com
DTSTAMP:20260421T130124Z
LAST-MODIFIED:20260421T130124Z
URL:http://use.mazemap.com/?v=1&campusid=100&cam
 puses=uu&sharepoitype=identifier&sharepoi=AB-
 158
SUMMARY:SSKt1\, Människokroppens struktur och funktion
 . Gr. A\, Louise Edwinsson\, Grupparbete\, Obligato
 risk
LOCATION:Plats: B11
DESCRIPTION:Inlärningsträff 5 \nKarta: http://u
 se.mazemap.com/?v=1&campusid=100&campuses=uu
 &sharepoitype=identifier&sharepoi=AB-158\nID
  3725006
END:VEVENT
BEGIN:VEVENT
DTSTART:20260508T111500Z
DTEND:20260508T140000Z
UID:3919965-1094642922-0@timeedit.com
DTSTAMP:20260421T130124Z
LAST-MODIFIED:20260421T130124Z
URL:https://uppsala.instructure.com/courses/11
 5908/assignments/379497?module_item_id=1608
 234
SUMMARY:Spelproduktion 1 - arkadspel
 .  \, Daniel Ditlevsen\, Föreläsn
 ing
LOCATION:Plats: B11 \nPlats: B13-15 \
 nPlats: B43 \nPlats: D23 \nPlats: 
 E35
DESCRIPTION:Sprint 2: Review + Alpha \nSee schedule here: https://u
 ppsala.instructure.com/courses/115908/assignments/379497?module_
 item_id=1608234 \nKarta: http://use.mazemap.com/?v=1&campusid=10
 0&campuses=uu&sharepoitype=identifier&sharepoi=AB-158 \nKarta: h
 ttp://use.mazemap.com/?v=1&campusid=100&campuses=uu&sharepoitype
 =identifier&sharepoi=AB-159 \nKarta: http://use.mazemap.com/?v=1
 &campusid=100&campuses=uu&sharepoitype=identifier&sharepoi=AB-16
 8 \nKarta: http://use.mazemap.com/?v=1&campusid=100&campuses=uu&
 sharepoitype=identifier&sharepoi=AB-169 \nKarta: http://use.maze
 map.com/?v=1&campusid=100&campuses=uu&sharepoitype=identifier&sh
 arepoi=AB-402 \nKarta: http://use.mazemap.com/?v=1&campusid=100&
 campuses=uu&sharepoitype=identifier&sharepoi=CD-268 \nKarta: htt
 p://use.mazemap.com/?v=1&campusid=100&campuses=uu&sharepoitype=i
 dentifier&sharepoi=E-3514\nID 3919965
END:VEVENT
BEGIN:VEVENT
DTSTART:20260511T071500Z
DTEND:20260511T100000Z
UID:3968496-1094642922-0@timeedit.com
DTSTAMP:20260421T130124Z
LAST-MODIFIED:20260421T130124Z
URL:http://use.mazemap.com/?v=1&campusid=100&cam
 puses=uu&sharepoitype=identifier&sharepoi=AB-
 158
SUMMARY:Teknisk-antikvarisk byggpro
 cess.  \, Sandra Såger\, Föreläs
 ning
LOCATION:Plats: B11
DESCRIPTION:Karta: http://use.mazemap.com/?v=1&campusid=100&c
 ampuses=uu&sharepoitype=identifier&sharepoi=AB-158\nID 396
 8496
END:VEVENT
BEGIN:VEVENT
DTSTART:20260511T111500Z
DTEND:20260511T140000Z
UID:3968499-1094642922-0@timeedit.com
DTSTAMP:20260421T130124Z
LAST-MODIFIED:20260421T130124Z
URL:http://use.mazemap.com/?v=1&campusid=100&cam
 puses=uu&sharepoitype=identifier&sharepoi=AB-
 158
SUMMARY:Teknisk-antikvarisk byggpro
 cess.  \, Martin Åhrén\, Föreläs
 ning
LOCATION:Plats: B11
DESCRIPTION:Karta: http://use.mazemap.com/?v=1&campusid=100&c
 ampuses=uu&sharepoitype=identifier&sharepoi=AB-158\nID 396
 8499
END:VEVENT
BEGIN:VEVENT
DTSTART:20260512T111500Z
DTEND:20260512T140000Z
UID:3919969-1094642922-0@timeedit.com
DTSTAMP:20260421T130124Z
LAST-MODIFIED:20260421T130124Z
URL:https://uppsala.instructure.com/courses/11
 5908/assignments/379496?module_item_id=1608
 235
SUMMARY:Spelproduktion 1 - arkadspel
 .  \, Daniel Ditlevsen\, Föreläsn
 ing
LOCATION:Plats: B11 \nPlats: B13-15 \nPlats: D23
DESCRIPTION:Sprint 3: Check-in \nSee schedule here: https://uppsal
 a.instructure.com/courses/115908/assignments/379496?module_item
 _id=1608235 \nKarta: http://use.mazemap.com/?v=1&campusid=100&c
 ampuses=uu&sharepoitype=identifier&sharepoi=AB-158 \nKarta: htt
 p://use.mazemap.com/?v=1&campusid=100&campuses=uu&sharepoitype=
 identifier&sharepoi=AB-159 \nKarta: http://use.mazemap.com/?v=1
 &campusid=100&campuses=uu&sharepoitype=identifier&sharepoi=AB-1
 68 \nKarta: http://use.mazemap.com/?v=1&campusid=100&campuses=u
 u&sharepoitype=identifier&sharepoi=AB-169 \nKarta: http://use.m
 azemap.com/?v=1&campusid=100&campuses=uu&sharepoitype=identifie
 r&sharepoi=CD-268\nID 3919969
END:VEVENT
BEGIN:VEVENT
DTSTART:20260513T070000Z
DTEND:20260513T150000Z
UID:3937086-1094642922-0@timeedit.com
DTSTAMP:20260421T130124Z
LAST-MODIFIED:20260421T130124Z
URL:http://use.mazemap.com/?v=1&campusid=100&cam
 puses=uu&sharepoitype=identifier&sharepoi=AB-
 158
SUMMARY:Jakob Berglund Rogert\, Möte
LOCATION:Plats: B11
DESCRIPTION:Programme Council Game Design \nKarta: 
 http://use.mazemap.com/?v=1&campusid=100&campuse
 s=uu&sharepoitype=identifier&sharepoi=AB-158\nID
  3937086
END:VEVENT
BEGIN:VEVENT
DTSTART:20260518T061500Z
DTEND:20260518T100000Z
UID:3725048-1094642922-0@timeedit.com
DTSTAMP:20260421T130124Z
LAST-MODIFIED:20260421T130124Z
URL:http://use.mazemap.com/?v=1&campusid=100&cam
 puses=uu&sharepoitype=identifier&sharepoi=AB-
 158
SUMMARY:SSKt1\, Människokroppens struktur och funktion
 . Gr. A\, Louise Edwinsson\, Grupparbete\, Obligato
 risk
LOCATION:Plats: B11
DESCRIPTION:Inlärningsträff 6 \nKarta: http://u
 se.mazemap.com/?v=1&campusid=100&campuses=uu
 &sharepoitype=identifier&sharepoi=AB-158\nID
  3725048
END:VEVENT
BEGIN:VEVENT
DTSTART:20260519T111500Z
DTEND:20260519T140000Z
UID:3757432-1094642922-0@timeedit.com
DTSTAMP:20260421T130124Z
LAST-MODIFIED:20260421T130124Z
URL:http://use.mazemap.com/?v=1&campusid=100&cam
 puses=uu&sharepoitype=identifier&sharepoi=AB-
 158
SUMMARY:Examensarbete i speldesign.
   \, Wilhelmina Statham\, Semina
 rium
LOCATION:Plats: B11 \nPlats: B13-14
DESCRIPTION:Ventilation Week \nKarta: http://use.mazemap.com/?v=1&cam
 pusid=100&campuses=uu&sharepoitype=identifier&sharepoi=AB-158 \nKa
 rta: http://use.mazemap.com/?v=1&campusid=100&campuses=uu&sharepoi
 type=identifier&sharepoi=AB-159 \nKarta: http://use.mazemap.com/?v
 =1&campusid=100&campuses=uu&sharepoitype=identifier&sharepoi=AB-16
 8\nID 3757432
END:VEVENT
BEGIN:VEVENT
DTSTART:20260521T071500Z
DTEND:20260521T140000Z
UID:3821536-1094642922-0@timeedit.com
DTSTAMP:20260421T130124Z
LAST-MODIFIED:20260421T130124Z
URL:http://use.mazemap.com/?v=1&campusid=100&cam
 puses=uu&sharepoitype=identifier&sharepoi=AB-
 158
SUMMARY:Magisteruppsats.  \, James 
 Sallis\, Matilda Dahl\, Föreläsn
 ing
LOCATION:Plats: B11 \nPlats: B14
DESCRIPTION:Karta: http://use.mazemap.com/?v=1&campusid=
 100&campuses=uu&sharepoitype=identifier&sharepoi=AB-1
 58 \nKarta: http://use.mazemap.com/?v=1&campusid=100&
 campuses=uu&sharepoitype=identifier&sharepoi=AB-168\n
 ID 3821536
END:VEVENT
BEGIN:VEVENT
DTSTART:20260522T061500Z
DTEND:20260522T150000Z
UID:3911804-1094642922-0@timeedit.com
DTSTAMP:20260421T130124Z
LAST-MODIFIED:20260421T130124Z
URL:http://use.mazemap.com/?v=1&campusid=100&cam
 puses=uu&sharepoitype=identifier&sharepoi=AB-
 158
SUMMARY:Kandidatkurs i företagsekonomi - fördjupning 
 med tillhörande metod.  \, Adri de Ridder\, Semina
 rium
LOCATION:Plats: B11
DESCRIPTION:Karta: http://use.mazemap.com/?v=1&campusid=100&c
 ampuses=uu&sharepoitype=identifier&sharepoi=AB-158\nID 391
 1804
END:VEVENT
END:VCALENDAR
