BEGIN:VCALENDAR
VERSION:2.0
METHOD:PUBLISH
X-WR-CALNAME:TimeEdit-Bibelvetenskap D
 2GTs\, 5RT328-V20-09563\, ...-20260
 401
X-WR-CALDESC:Date limit 6/4 - 27/4
X-PUBLISHED-TTL:PT20M
CALSCALE:GREGORIAN
PRODID:-//TimeEdit\\\, //TimeEdit//EN
BEGIN:VEVENT
DTSTART;VALUE=DATE:20260430
DTEND;VALUE=DATE:20260430
UID:2684741-1094642922-0@timeedit.com
DTSTAMP:20260423T211439Z
LAST-MODIFIED:20260423T211439Z
SUMMARY:Valborg
LOCATION:
DESCRIPTION:2026-04-29 22:00 - 2026-04-30 22:00\nID 2684741
END:VEVENT
BEGIN:VEVENT
DTSTART;VALUE=DATE:20260501
DTEND;VALUE=DATE:20260501
UID:2680922-1094642922-0@timeedit.com
DTSTAMP:20260423T211439Z
LAST-MODIFIED:20260423T211439Z
SUMMARY:Första maj
LOCATION:
DESCRIPTION:2026-04-30 22:00 - 2026-05-01 22:00\nID 2680922
END:VEVENT
BEGIN:VEVENT
DTSTART;VALUE=DATE:20260514
DTEND;VALUE=DATE:20260514
UID:2680923-1094642922-0@timeedit.com
DTSTAMP:20260423T211439Z
LAST-MODIFIED:20260423T211439Z
SUMMARY:Kristi himmelsfärdsdag
LOCATION:
DESCRIPTION:2026-05-13 22:00 - 2026-05-14 22:00\nID 2680923
END:VEVENT
BEGIN:VEVENT
DTSTART;VALUE=DATE:20260524
DTEND;VALUE=DATE:20260524
UID:2680925-1094642922-0@timeedit.com
DTSTAMP:20260423T211439Z
LAST-MODIFIED:20260423T211439Z
SUMMARY:Pingstdagen
LOCATION:
DESCRIPTION:2026-05-23 22:00 - 2026-05-24 22:00\nID 2680925
END:VEVENT
END:VCALENDAR
